BEGIN:VCALENDAR
VERSION:2.0
PRODID:-//Appenheim.net Community - ECPv6.15.20//NONSGML v1.0//EN
CALSCALE:GREGORIAN
METHOD:PUBLISH
X-WR-CALNAME:Appenheim.net Community
X-ORIGINAL-URL:https://www.appenheim.net
X-WR-CALDESC:Veranstaltungen für Appenheim.net Community
REFRESH-INTERVAL;VALUE=DURATION:PT1H
X-Robots-Tag:noindex
X-PUBLISHED-TTL:PT1H
BEGIN:VTIMEZONE
TZID:Europe/Berlin
BEGIN:DAYLIGHT
TZOFFSETFROM:+0100
TZOFFSETTO:+0200
TZNAME:CEST
DTSTART:20240331T010000
END:DAYLIGHT
BEGIN:STANDARD
TZOFFSETFROM:+0200
TZOFFSETTO:+0100
TZNAME:CET
DTSTART:20241027T010000
END:STANDARD
BEGIN:DAYLIGHT
TZOFFSETFROM:+0100
TZOFFSETTO:+0200
TZNAME:CEST
DTSTART:20250330T010000
END:DAYLIGHT
BEGIN:STANDARD
TZOFFSETFROM:+0200
TZOFFSETTO:+0100
TZNAME:CET
DTSTART:20251026T010000
END:STANDARD
BEGIN:DAYLIGHT
TZOFFSETFROM:+0100
TZOFFSETTO:+0200
TZNAME:CEST
DTSTART:20260329T010000
END:DAYLIGHT
BEGIN:STANDARD
TZOFFSETFROM:+0200
TZOFFSETTO:+0100
TZNAME:CET
DTSTART:20261025T010000
END:STANDARD
END:VTIMEZONE
BEGIN:VEVENT
DTSTART;TZID=Europe/Berlin:20251108T140000
DTEND;TZID=Europe/Berlin:20251108T160000
DTSTAMP:20260420T171033
CREATED:20250313T064016Z
LAST-MODIFIED:20250313T064635Z
UID:4240-1762610400-1762617600@www.appenheim.net
SUMMARY:Empfang der Karate-WM-Teilnehmer
DESCRIPTION:Empfang der WM-Teilnehmer der Karate-Abteilung des TV-Appenheim. \n\n\n\nDetails folgen
URL:https://www.appenheim.net/event/empfang-der-karate-wm-teilnehmer/
LOCATION:Turnhalle\, Hauptstraße\, Appenheim\, RLP\, 55437\, Deutschland
CATEGORIES:Turnverein
END:VEVENT
BEGIN:VEVENT
DTSTART;TZID=Europe/Berlin:20251113T200000
DTEND;TZID=Europe/Berlin:20251113T220000
DTSTAMP:20260420T171033
CREATED:20251026T213308Z
LAST-MODIFIED:20251026T213309Z
UID:4541-1763064000-1763071200@www.appenheim.net
SUMMARY:Spieleabend in der Bücherei
DESCRIPTION:Der erste Spieleabend der Bücherei Klappentext findet am Donnerstag\, 13. November um 19 Uhr im Gemeindehaus statt. Es werden einige Gesellschaftsspiele vorhanden sein\, allerdings dürfen alle Teilnehmer gerne ihr Lieblingsspiel (Brett oder Karten) mitbringen. Für Getränke und Knabbereien ist gesorgt. Wir freuen uns auf alle Mitspieler vom Jugendlichen bis zum Senioren. Bei Erfolg wollen wir den Spieleabend ein Mal monatlich wiederholen.
URL:https://www.appenheim.net/event/spieleabend-in-der-buecherei/
LOCATION:Gemeindehaus\, Hauptstraße 39\, Appenheim\, 55437\, Deutschland
ORGANIZER;CN="B%C3%BCcherei Klappentext e.V.":MAILTO:buecherei@appenheim.net
END:VEVENT
BEGIN:VEVENT
DTSTART;TZID=Europe/Berlin:20251116T150000
DTEND;TZID=Europe/Berlin:20251116T170000
DTSTAMP:20260420T171033
CREATED:20241215T155456Z
LAST-MODIFIED:20241223T190306Z
UID:4108-1763305200-1763312400@www.appenheim.net
SUMMARY:Tortenfestivel des LandFrauenvereins Appenheim
DESCRIPTION:Freuen Sie sich über leckere selbstgebackene Torten  und feinen Kaffee.  \n\n\n\nOrt: Begegnungsstätte Appenheim   \n\n\n\nWeitere Informationen per E-Mail:  landfrauenverein@appenheim.de   \n\n\n\nReservierungen können keine vorgenommen werden.  Einfach vorbei kommen und genießen.
URL:https://www.appenheim.net/event/tortenfestivel-des-landfrauenvereins-appenheim/
LOCATION:RLP
CATEGORIES:Landfrauenverein,Vereine
END:VEVENT
BEGIN:VEVENT
DTSTART;TZID=Europe/Berlin:20251120T170000
DTEND;TZID=Europe/Berlin:20251120T220000
DTSTAMP:20260420T171033
CREATED:20250831T105406Z
LAST-MODIFIED:20250831T105408Z
UID:4497-1763658000-1763676000@www.appenheim.net
SUMMARY:After Work Glühwein - im Weingut Schäfer
DESCRIPTION:Die Fortsetzung des After-Work-Schoppens vom 21. August\, transformiert in die kalte Jahreszeit. Für das leibliche Wohl ist bestens gesorgt. Anmeldung nicht erforderlich.
URL:https://www.appenheim.net/event/after-work-gluehwein-im-weingut-schaefer/
LOCATION:Weingut Schäfer\, Breitgasse 49\, Appenheim\, Rheinland-Pfalz\, 55437\, Germany
END:VEVENT
END:VCALENDAR