BEGIN:VCALENDAR
VERSION:2.0
PRODID:-//Appenheim.net Community - ECPv6.15.20//NONSGML v1.0//EN
CALSCALE:GREGORIAN
METHOD:PUBLISH
X-WR-CALNAME:Appenheim.net Community
X-ORIGINAL-URL:https://www.appenheim.net
X-WR-CALDESC:Veranstaltungen für Appenheim.net Community
REFRESH-INTERVAL;VALUE=DURATION:PT1H
X-Robots-Tag:noindex
X-PUBLISHED-TTL:PT1H
BEGIN:VTIMEZONE
TZID:Europe/Berlin
BEGIN:DAYLIGHT
TZOFFSETFROM:+0100
TZOFFSETTO:+0200
TZNAME:CEST
DTSTART:20250330T010000
END:DAYLIGHT
BEGIN:STANDARD
TZOFFSETFROM:+0200
TZOFFSETTO:+0100
TZNAME:CET
DTSTART:20251026T010000
END:STANDARD
BEGIN:DAYLIGHT
TZOFFSETFROM:+0100
TZOFFSETTO:+0200
TZNAME:CEST
DTSTART:20260329T010000
END:DAYLIGHT
BEGIN:STANDARD
TZOFFSETFROM:+0200
TZOFFSETTO:+0100
TZNAME:CET
DTSTART:20261025T010000
END:STANDARD
BEGIN:DAYLIGHT
TZOFFSETFROM:+0100
TZOFFSETTO:+0200
TZNAME:CEST
DTSTART:20270328T010000
END:DAYLIGHT
BEGIN:STANDARD
TZOFFSETFROM:+0200
TZOFFSETTO:+0100
TZNAME:CET
DTSTART:20271031T010000
END:STANDARD
END:VTIMEZONE
BEGIN:VEVENT
DTSTART;TZID=Europe/Berlin:20260507T170000
DTEND;TZID=Europe/Berlin:20260507T220000
DTSTAMP:20260422T102320
CREATED:20250831T105643Z
LAST-MODIFIED:20250831T105645Z
UID:4501-1778173200-1778191200@www.appenheim.net
SUMMARY:After Work Wein - im Weingut Schäfer
DESCRIPTION:nach After-Work-Schoppen und After-Work-Glüwein kommt nun der After-Work-Wein! Für das leibliche Wohl ist bestens gesorgt. Anmeldung nicht erforderlich.
URL:https://www.appenheim.net/event/after-work-wein-im-weingut-schaefer/
LOCATION:Weingut Schäfer\, Breitgasse 49\, Appenheim\, Rheinland-Pfalz\, 55437\, Germany
END:VEVENT
END:VCALENDAR