BEGIN:VCALENDAR
VERSION:2.0
PRODID:-//Appenheim.net Community - ECPv6.15.20//NONSGML v1.0//EN
CALSCALE:GREGORIAN
METHOD:PUBLISH
X-ORIGINAL-URL:https://www.appenheim.net
X-WR-CALDESC:Veranstaltungen für Appenheim.net Community
REFRESH-INTERVAL;VALUE=DURATION:PT1H
X-Robots-Tag:noindex
X-PUBLISHED-TTL:PT1H
BEGIN:VTIMEZONE
TZID:Europe/Berlin
BEGIN:DAYLIGHT
TZOFFSETFROM:+0100
TZOFFSETTO:+0200
TZNAME:CEST
DTSTART:20240331T010000
END:DAYLIGHT
BEGIN:STANDARD
TZOFFSETFROM:+0200
TZOFFSETTO:+0100
TZNAME:CET
DTSTART:20241027T010000
END:STANDARD
BEGIN:DAYLIGHT
TZOFFSETFROM:+0100
TZOFFSETTO:+0200
TZNAME:CEST
DTSTART:20250330T010000
END:DAYLIGHT
BEGIN:STANDARD
TZOFFSETFROM:+0200
TZOFFSETTO:+0100
TZNAME:CET
DTSTART:20251026T010000
END:STANDARD
BEGIN:DAYLIGHT
TZOFFSETFROM:+0100
TZOFFSETTO:+0200
TZNAME:CEST
DTSTART:20260329T010000
END:DAYLIGHT
BEGIN:STANDARD
TZOFFSETFROM:+0200
TZOFFSETTO:+0100
TZNAME:CET
DTSTART:20261025T010000
END:STANDARD
END:VTIMEZONE
BEGIN:VEVENT
DTSTART;TZID=Europe/Berlin:20251205T180000
DTEND;TZID=Europe/Berlin:20251205T183000
DTSTAMP:20260420T171514
CREATED:20251108T180744Z
LAST-MODIFIED:20251108T180745Z
UID:4583-1764957600-1764959400@www.appenheim.net
SUMMARY:Lebendiger Adventskalender
DESCRIPTION:Katholische Kirchengemeinde
URL:https://www.appenheim.net/event/lebendiger-adventskalender-14/
LOCATION:kath. Kirche Appenheim\, Hauptstraße 25\, Appenheim\, 55437\, Deutschland
ORGANIZER;CN="B%C3%BCcherei Klappentext e.V.":MAILTO:buecherei@appenheim.net
END:VEVENT
END:VCALENDAR