BEGIN:VCALENDAR
VERSION:2.0
PRODID:-//Appenheim.net Community - ECPv6.15.20//NONSGML v1.0//EN
CALSCALE:GREGORIAN
METHOD:PUBLISH
X-ORIGINAL-URL:https://www.appenheim.net
X-WR-CALDESC:Veranstaltungen für Appenheim.net Community
REFRESH-INTERVAL;VALUE=DURATION:PT1H
X-Robots-Tag:noindex
X-PUBLISHED-TTL:PT1H
BEGIN:VTIMEZONE
TZID:Europe/Berlin
BEGIN:DAYLIGHT
TZOFFSETFROM:+0100
TZOFFSETTO:+0200
TZNAME:CEST
DTSTART:20240331T010000
END:DAYLIGHT
BEGIN:STANDARD
TZOFFSETFROM:+0200
TZOFFSETTO:+0100
TZNAME:CET
DTSTART:20241027T010000
END:STANDARD
BEGIN:DAYLIGHT
TZOFFSETFROM:+0100
TZOFFSETTO:+0200
TZNAME:CEST
DTSTART:20250330T010000
END:DAYLIGHT
BEGIN:STANDARD
TZOFFSETFROM:+0200
TZOFFSETTO:+0100
TZNAME:CET
DTSTART:20251026T010000
END:STANDARD
BEGIN:DAYLIGHT
TZOFFSETFROM:+0100
TZOFFSETTO:+0200
TZNAME:CEST
DTSTART:20260329T010000
END:DAYLIGHT
BEGIN:STANDARD
TZOFFSETFROM:+0200
TZOFFSETTO:+0100
TZNAME:CET
DTSTART:20261025T010000
END:STANDARD
END:VTIMEZONE
BEGIN:VEVENT
DTSTART;TZID=Europe/Berlin:20251204T180000
DTEND;TZID=Europe/Berlin:20251204T183000
DTSTAMP:20260420T171505
CREATED:20251027T150341Z
LAST-MODIFIED:20251027T150342Z
UID:4566-1764871200-1764873000@www.appenheim.net
SUMMARY:Lebendiger Adventskalender
DESCRIPTION:Familie M. Knewitz\, Hauptstraße 58
URL:https://www.appenheim.net/event/lebendiger-adventskalender-10/
LOCATION:Familie M. Knewitz\, Hauptstraße 58\, Appenheim\, 55437\, Deutschland
ORGANIZER;CN="B%C3%BCcherei Klappentext e.V.":MAILTO:buecherei@appenheim.net
END:VEVENT
BEGIN:VEVENT
DTSTART;TZID=Europe/Berlin:20251204T183000
DTEND;TZID=Europe/Berlin:20251204T220000
DTSTAMP:20260420T171505
CREATED:20250109T075349Z
LAST-MODIFIED:20250109T075351Z
UID:4141-1764873000-1764885600@www.appenheim.net
SUMMARY:LandFrauenverein - Weihnachtsfeier
DESCRIPTION:Herzliche Einladung zu unserer Weihnachtsfeierin der Begegnungsstätte Appenheim 5 € – Beitrag für das Abendessen
URL:https://www.appenheim.net/event/landfrauenverein-weihnachtsfeier/
LOCATION:RLP
CATEGORIES:Landfrauenverein,Vereine
END:VEVENT
END:VCALENDAR