BEGIN:VCALENDAR
VERSION:2.0
PRODID:-//Appenheim.net Community - ECPv6.15.20//NONSGML v1.0//EN
CALSCALE:GREGORIAN
METHOD:PUBLISH
X-WR-CALNAME:Appenheim.net Community
X-ORIGINAL-URL:https://www.appenheim.net
X-WR-CALDESC:Veranstaltungen für Appenheim.net Community
REFRESH-INTERVAL;VALUE=DURATION:PT1H
X-Robots-Tag:noindex
X-PUBLISHED-TTL:PT1H
BEGIN:VTIMEZONE
TZID:Europe/Berlin
BEGIN:DAYLIGHT
TZOFFSETFROM:+0100
TZOFFSETTO:+0200
TZNAME:CEST
DTSTART:20240331T010000
END:DAYLIGHT
BEGIN:STANDARD
TZOFFSETFROM:+0200
TZOFFSETTO:+0100
TZNAME:CET
DTSTART:20241027T010000
END:STANDARD
BEGIN:DAYLIGHT
TZOFFSETFROM:+0100
TZOFFSETTO:+0200
TZNAME:CEST
DTSTART:20250330T010000
END:DAYLIGHT
BEGIN:STANDARD
TZOFFSETFROM:+0200
TZOFFSETTO:+0100
TZNAME:CET
DTSTART:20251026T010000
END:STANDARD
BEGIN:DAYLIGHT
TZOFFSETFROM:+0100
TZOFFSETTO:+0200
TZNAME:CEST
DTSTART:20260329T010000
END:DAYLIGHT
BEGIN:STANDARD
TZOFFSETFROM:+0200
TZOFFSETTO:+0100
TZNAME:CET
DTSTART:20261025T010000
END:STANDARD
END:VTIMEZONE
BEGIN:VEVENT
DTSTART;TZID=Europe/Berlin:20251031T193000
DTEND;TZID=Europe/Berlin:20251031T235900
DTSTAMP:20260420T184605
CREATED:20250313T063838Z
LAST-MODIFIED:20250313T064625Z
UID:4238-1761939000-1761955140@www.appenheim.net
SUMMARY:Halloween Party TV Appenheim
DESCRIPTION:Halloween-Party in der Bar des TVA. Details folgen
URL:https://www.appenheim.net/event/halloween-party-tv-appenheim/
LOCATION:Turnhalle\, Hauptstraße\, Appenheim\, RLP\, 55437\, Deutschland
CATEGORIES:Turnverein
END:VEVENT
END:VCALENDAR